BEGIN:VCALENDAR
VERSION:2.0
PRODID:JMS Hockey
X-PUBLISHED-TTL:P1W
BEGIN:VEVENT
UID:69e7c3e4c556d
DTSTART:20171009T001500Z
SEQUENCE:0
TRANSP:OPAQUE
DTEND:20171009T013000Z
URL:http://jmshockey.com/league/game/1104
LOCATION:Eden Prairie Comm Ctr
SUMMARY:Pipe Layers vs. Moose at Eden Prairie Comm Ctr (Loon State Hockey L
 eagues)
CLASS:PUBLIC
DTSTAMP:20260421T133724Z
END:VEVENT
END:VCALENDAR