BEGIN:VCALENDAR
VERSION:2.0
PRODID:JMS Hockey
X-PUBLISHED-TTL:P1W
BEGIN:VEVENT
UID:69e7a40f6c0ce
DTSTART:20141006T013000Z
SEQUENCE:0
TRANSP:OPAQUE
DTEND:20141006T013000Z
URL:http://jmshockey.com/league/game/109
LOCATION:Eden Prairie Comm Ctr
SUMMARY:Gong Show vs. Master Skaters at Eden Prairie Comm Ctr (Loon State H
 ockey Leagues)
CLASS:PUBLIC
DTSTAMP:20260421T112135Z
END:VEVENT
END:VCALENDAR