BEGIN:VCALENDAR
VERSION:2.0
PRODID:JMS Hockey
X-PUBLISHED-TTL:P1W
BEGIN:VEVENT
UID:69e7b5ed34b56
DTSTART:20140929T010000Z
SEQUENCE:0
TRANSP:OPAQUE
DTEND:20140929T010000Z
URL:http://jmshockey.com/league/game/108
LOCATION:Eden Prairie Comm Ctr
SUMMARY:Mt. Filthy vs. Master Skaters at Eden Prairie Comm Ctr (Loon State 
 Hockey Leagues)
CLASS:PUBLIC
DTSTAMP:20260421T123749Z
END:VEVENT
END:VCALENDAR