BEGIN:VCALENDAR
VERSION:2.0
PRODID:JMS Hockey
X-PUBLISHED-TTL:P1W
BEGIN:VEVENT
UID:69e7a40ebe0c2
DTSTART:20140929T023000Z
SEQUENCE:0
TRANSP:OPAQUE
DTEND:20140929T023000Z
URL:http://jmshockey.com/league/game/107
LOCATION:Eden Prairie Comm Ctr
SUMMARY:The Late Show - featuring the Monday morning Zombies vs. Gong Show 
 at Eden Prairie Comm Ctr (Loon State Hockey Leagues)
CLASS:PUBLIC
DTSTAMP:20260421T112134Z
END:VEVENT
END:VCALENDAR