BEGIN:VCALENDAR
VERSION:2.0
PRODID:JMS Hockey
X-PUBLISHED-TTL:P1W
BEGIN:VEVENT
UID:69e7b1a06e4ed
DTSTART:20170719T233000Z
SEQUENCE:0
TRANSP:OPAQUE
DTEND:20170720T003000Z
URL:http://jmshockey.com/league/game/1061
LOCATION:Doug Woog Arena (Wakota)
SUMMARY:J-Shots vs. Guy and Dolls at Doug Woog Arena (Wakota) (Loon State H
 ockey Leagues)
CLASS:PUBLIC
DTSTAMP:20260421T121928Z
END:VEVENT
END:VCALENDAR