BEGIN:VCALENDAR
VERSION:2.0
PRODID:JMS Hockey
X-PUBLISHED-TTL:P1W
BEGIN:VEVENT
UID:69e78814da7ba
DTSTART:20170720T004000Z
SEQUENCE:0
TRANSP:OPAQUE
DTEND:20170720T014000Z
URL:http://jmshockey.com/league/game/1059
LOCATION:Doug Woog Arena (Wakota)
SUMMARY:The Golden Girls vs. Wild Women at Doug Woog Arena (Wakota) (Loon S
 tate Hockey Leagues)
CLASS:PUBLIC
DTSTAMP:20260421T092212Z
END:VEVENT
END:VCALENDAR