BEGIN:VCALENDAR
VERSION:2.0
PRODID:JMS Hockey
X-PUBLISHED-TTL:P1W
BEGIN:VEVENT
UID:69e798011abb0
DTSTART:20170628T233000Z
SEQUENCE:0
TRANSP:OPAQUE
DTEND:20170629T003000Z
URL:http://jmshockey.com/league/game/1050
LOCATION:Doug Woog Arena (Wakota)
SUMMARY:Wild Women vs. The Golden Girls at Doug Woog Arena (Wakota) (Loon S
 tate Hockey Leagues)
CLASS:PUBLIC
DTSTAMP:20260421T103009Z
END:VEVENT
END:VCALENDAR