BEGIN:VCALENDAR
VERSION:2.0
PRODID:JMS Hockey
X-PUBLISHED-TTL:P1W
BEGIN:VEVENT
UID:69e79fe1d8473
DTSTART:20170608T010000Z
SEQUENCE:0
TRANSP:OPAQUE
DTEND:20170608T020000Z
URL:http://jmshockey.com/league/game/1049
LOCATION:Doug Woog Arena (Wakota)
SUMMARY:J-Shots vs. Guy and Dolls at Doug Woog Arena (Wakota) (Loon State H
 ockey Leagues)
CLASS:PUBLIC
DTSTAMP:20260421T110345Z
END:VEVENT
END:VCALENDAR