BEGIN:VCALENDAR
VERSION:2.0
PRODID:JMS Hockey
X-PUBLISHED-TTL:P1W
BEGIN:VEVENT
UID:69e788162a30d
DTSTART:20170607T235000Z
SEQUENCE:0
TRANSP:OPAQUE
DTEND:20170608T005000Z
URL:http://jmshockey.com/league/game/1048
LOCATION:Doug Woog Arena (Wakota)
SUMMARY:The Golden Girls vs. Wild Women at Doug Woog Arena (Wakota) (Loon S
 tate Hockey Leagues)
CLASS:PUBLIC
DTSTAMP:20260421T092214Z
END:VEVENT
END:VCALENDAR