BEGIN:VCALENDAR
VERSION:2.0
PRODID:JMS Hockey
X-PUBLISHED-TTL:P1W
BEGIN:VEVENT
UID:69e7a7e8782aa
DTSTART:20170731T020000Z
SEQUENCE:0
TRANSP:OPAQUE
DTEND:20170731T031000Z
URL:http://jmshockey.com/league/game/1041
LOCATION:Doug Woog Arena (Wakota)
SUMMARY:Lamplighters vs. Hat Trick Swayze at Doug Woog Arena (Wakota) (Loon
  State Hockey Leagues)
CLASS:PUBLIC
DTSTAMP:20260421T113800Z
END:VEVENT
END:VCALENDAR