BEGIN:VCALENDAR
VERSION:2.0
PRODID:JMS Hockey
X-PUBLISHED-TTL:P1W
BEGIN:VEVENT
UID:69e7a40ff1527
DTSTART:20140915T010000Z
SEQUENCE:0
TRANSP:OPAQUE
DTEND:20140915T010000Z
URL:http://jmshockey.com/league/game/103
LOCATION:Eden Prairie Comm Ctr
SUMMARY:Master Skaters vs. Gong Show at Eden Prairie Comm Ctr (Loon State H
 ockey Leagues)
CLASS:PUBLIC
DTSTAMP:20260421T112135Z
END:VEVENT
END:VCALENDAR