BEGIN:VCALENDAR
VERSION:2.0
PRODID:JMS Hockey
X-PUBLISHED-TTL:P1W
BEGIN:VEVENT
UID:69e7a97bd4520
DTSTART:20170626T015000Z
SEQUENCE:0
TRANSP:OPAQUE
DTEND:20170626T030000Z
URL:http://jmshockey.com/league/game/1026
LOCATION:Doug Woog Arena (Wakota)
SUMMARY:Hat Trick Swayze vs. Minnesota Mild at Doug Woog Arena (Wakota) (Lo
 on State Hockey Leagues)
CLASS:PUBLIC
DTSTAMP:20260421T114443Z
END:VEVENT
END:VCALENDAR