BEGIN:VCALENDAR
VERSION:2.0
PRODID:JMS Hockey
X-PUBLISHED-TTL:P1W
BEGIN:VEVENT
UID:69e77b5cce7bb
DTSTART:20170717T011500Z
SEQUENCE:0
TRANSP:OPAQUE
DTEND:20170717T021500Z
URL:http://jmshockey.com/league/game/1016
LOCATION:Roseville Skating Center
SUMMARY:Zambronies vs. Just the Tip-in at Roseville Skating Center (Loon St
 ate Hockey Leagues)
CLASS:PUBLIC
DTSTAMP:20260421T082756Z
END:VEVENT
END:VCALENDAR