BEGIN:VCALENDAR
VERSION:2.0
PRODID:JMS Hockey
X-PUBLISHED-TTL:P1W
BEGIN:VEVENT
UID:69e7a33632358
DTSTART:20170620T020000Z
SEQUENCE:0
TRANSP:OPAQUE
DTEND:20170620T033000Z
URL:http://jmshockey.com/games/9990
LOCATION:Roseville Skating Center
SUMMARY:Intermediate Game at Roseville Skating Center
CLASS:PUBLIC
DTSTAMP:20260421T111758Z
END:VEVENT
END:VCALENDAR