BEGIN:VCALENDAR
VERSION:2.0
PRODID:JMS Hockey
X-PUBLISHED-TTL:P1W
BEGIN:VEVENT
UID:69e7c6eb7543d
DTSTART:20170531T020000Z
SEQUENCE:0
TRANSP:OPAQUE
DTEND:20170531T033000Z
URL:http://jmshockey.com/games/9984
LOCATION:Maple Grove
SUMMARY:Intermediate Game at Maple Grove
CLASS:PUBLIC
DTSTAMP:20260421T135019Z
END:VEVENT
END:VCALENDAR