BEGIN:VCALENDAR
VERSION:2.0
PRODID:JMS Hockey
X-PUBLISHED-TTL:P1W
BEGIN:VEVENT
UID:69e799fa443e1
DTSTART:20170525T020000Z
SEQUENCE:0
TRANSP:OPAQUE
DTEND:20170525T033000Z
URL:http://jmshockey.com/games/9977
LOCATION:Maple Grove
SUMMARY:Lower Level Game at Maple Grove
CLASS:PUBLIC
DTSTAMP:20260421T103834Z
END:VEVENT
END:VCALENDAR