BEGIN:VCALENDAR
VERSION:2.0
PRODID:JMS Hockey
X-PUBLISHED-TTL:P1W
BEGIN:VEVENT
UID:69e78b73d8324
DTSTART:20170518T020000Z
SEQUENCE:0
TRANSP:OPAQUE
DTEND:20170518T033000Z
URL:http://jmshockey.com/games/9976
LOCATION:Maple Grove
SUMMARY:Lower Level Game at Maple Grove
CLASS:PUBLIC
DTSTAMP:20260421T093635Z
END:VEVENT
END:VCALENDAR