BEGIN:VCALENDAR
VERSION:2.0
PRODID:JMS Hockey
X-PUBLISHED-TTL:P1W
BEGIN:VEVENT
UID:69e77324b9093
DTSTART:20170624T010000Z
SEQUENCE:0
TRANSP:OPAQUE
DTEND:20170624T023000Z
URL:http://jmshockey.com/games/9972
LOCATION:Eden Prairie Comm Ctr
SUMMARY:Intermediate Game at Eden Prairie Comm Ctr
CLASS:PUBLIC
DTSTAMP:20260421T075252Z
END:VEVENT
END:VCALENDAR