BEGIN:VCALENDAR
VERSION:2.0
PRODID:JMS Hockey
X-PUBLISHED-TTL:P1W
BEGIN:VEVENT
UID:69e79fa54709e
DTSTART:20170610T010000Z
SEQUENCE:0
TRANSP:OPAQUE
DTEND:20170610T023000Z
URL:http://jmshockey.com/games/9970
LOCATION:Eden Prairie Comm Ctr
SUMMARY:Intermediate Game at Eden Prairie Comm Ctr
CLASS:PUBLIC
DTSTAMP:20260421T110245Z
END:VEVENT
END:VCALENDAR