BEGIN:VCALENDAR
VERSION:2.0
PRODID:JMS Hockey
X-PUBLISHED-TTL:P1W
BEGIN:VEVENT
UID:69e79a3526cec
DTSTART:20170603T010000Z
SEQUENCE:0
TRANSP:OPAQUE
DTEND:20170603T023000Z
URL:http://jmshockey.com/games/9969
LOCATION:Eden Prairie Comm Ctr
SUMMARY:Intermediate Game at Eden Prairie Comm Ctr
CLASS:PUBLIC
DTSTAMP:20260421T103933Z
END:VEVENT
END:VCALENDAR