BEGIN:VCALENDAR
VERSION:2.0
PRODID:JMS Hockey
X-PUBLISHED-TTL:P1W
BEGIN:VEVENT
UID:69e795bbebedb
DTSTART:20170506T004500Z
SEQUENCE:0
TRANSP:OPAQUE
DTEND:20170506T021500Z
URL:http://jmshockey.com/games/9966
LOCATION:Eden Prairie Comm Ctr
SUMMARY:Intermediate Game at Eden Prairie Comm Ctr
CLASS:PUBLIC
DTSTAMP:20260421T102027Z
END:VEVENT
END:VCALENDAR