BEGIN:VCALENDAR
VERSION:2.0
PRODID:JMS Hockey
X-PUBLISHED-TTL:P1W
BEGIN:VEVENT
UID:69e7b12165e64
DTSTART:20170524T010000Z
SEQUENCE:0
TRANSP:OPAQUE
DTEND:20170524T023000Z
URL:http://jmshockey.com/games/9959
LOCATION:Eden Prairie Comm Ctr
SUMMARY:Upper Level Game at Eden Prairie Comm Ctr
CLASS:PUBLIC
DTSTAMP:20260421T121721Z
END:VEVENT
END:VCALENDAR