BEGIN:VCALENDAR
VERSION:2.0
PRODID:JMS Hockey
X-PUBLISHED-TTL:P1W
BEGIN:VEVENT
UID:69e787986f802
DTSTART:20170607T011000Z
SEQUENCE:0
TRANSP:OPAQUE
DTEND:20170607T024000Z
URL:http://jmshockey.com/games/9954
LOCATION:Burnsville Arena
SUMMARY:Lower Level Game at Burnsville Arena
CLASS:PUBLIC
DTSTAMP:20260421T092008Z
END:VEVENT
END:VCALENDAR