BEGIN:VCALENDAR
VERSION:2.0
PRODID:JMS Hockey
X-PUBLISHED-TTL:P1W
BEGIN:VEVENT
UID:69e7ae8e92ad1
DTSTART:20170606T020000Z
SEQUENCE:0
TRANSP:OPAQUE
DTEND:20170606T033000Z
URL:http://jmshockey.com/games/9948
LOCATION:Burnsville Arena
SUMMARY:Intermediate Game at Burnsville Arena
CLASS:PUBLIC
DTSTAMP:20260421T120622Z
END:VEVENT
END:VCALENDAR