BEGIN:VCALENDAR
VERSION:2.0
PRODID:JMS Hockey
X-PUBLISHED-TTL:P1W
BEGIN:VEVENT
UID:69e79a3fa3ac5
DTSTART:20170623T013000Z
SEQUENCE:0
TRANSP:OPAQUE
DTEND:20170623T030000Z
URL:http://jmshockey.com/games/9942
LOCATION:Apple Valley Hayes Park Arena
SUMMARY:Intermediate Game at Apple Valley Hayes Park Arena
CLASS:PUBLIC
DTSTAMP:20260421T103943Z
END:VEVENT
END:VCALENDAR