BEGIN:VCALENDAR
VERSION:2.0
PRODID:JMS Hockey
X-PUBLISHED-TTL:P1W
BEGIN:VEVENT
UID:69e7aec994696
DTSTART:20170602T011000Z
SEQUENCE:0
TRANSP:OPAQUE
DTEND:20170602T024000Z
URL:http://jmshockey.com/games/9941
LOCATION:Burnsville Arena
SUMMARY:Intermediate Game at Burnsville Arena
CLASS:PUBLIC
DTSTAMP:20260421T120721Z
END:VEVENT
END:VCALENDAR