BEGIN:VCALENDAR
VERSION:2.0
PRODID:JMS Hockey
X-PUBLISHED-TTL:P1W
BEGIN:VEVENT
UID:69e7dd3c99a9c
DTSTART:20091111T040000Z
SEQUENCE:0
TRANSP:OPAQUE
DTEND:20091111T053000Z
URL:http://jmshockey.com/games/994
LOCATION:Fogerty Icehouse
SUMMARY:Level 3 Game at Fogerty Icehouse
CLASS:PUBLIC
DTSTAMP:20260421T152532Z
END:VEVENT
END:VCALENDAR