BEGIN:VCALENDAR
VERSION:2.0
PRODID:JMS Hockey
X-PUBLISHED-TTL:P1W
BEGIN:VEVENT
UID:69e799f51dd85
DTSTART:20170427T014000Z
SEQUENCE:0
TRANSP:OPAQUE
DTEND:20170427T031000Z
URL:http://jmshockey.com/games/9929
LOCATION:Doug Woog Arena (Wakota)
SUMMARY:Level 3 Game at Doug Woog Arena (Wakota)
CLASS:PUBLIC
DTSTAMP:20260421T103829Z
END:VEVENT
END:VCALENDAR