BEGIN:VCALENDAR
VERSION:2.0
PRODID:JMS Hockey
X-PUBLISHED-TTL:P1W
BEGIN:VEVENT
UID:69e799f639df9
DTSTART:20170403T010000Z
SEQUENCE:0
TRANSP:OPAQUE
DTEND:20170403T023000Z
URL:http://jmshockey.com/games/9902
LOCATION:Highland Arena
SUMMARY:Novice Game at Highland Arena
CLASS:PUBLIC
DTSTAMP:20260421T103830Z
END:VEVENT
END:VCALENDAR