BEGIN:VCALENDAR
VERSION:2.0
PRODID:JMS Hockey
X-PUBLISHED-TTL:P1W
BEGIN:VEVENT
UID:69e7e65f24652
DTSTART:20081011T021500Z
SEQUENCE:0
TRANSP:OPAQUE
DTEND:20081011T034500Z
URL:http://jmshockey.com/games/99
LOCATION:Richfield Ice Arena
SUMMARY:Level 2 Game at Richfield Ice Arena
CLASS:PUBLIC
DTSTAMP:20260421T160431Z
END:VEVENT
END:VCALENDAR