BEGIN:VCALENDAR
VERSION:2.0
PRODID:JMS Hockey
X-PUBLISHED-TTL:P1W
BEGIN:VEVENT
UID:69e7a35514985
DTSTART:20170411T023000Z
SEQUENCE:0
TRANSP:OPAQUE
DTEND:20170411T040000Z
URL:http://jmshockey.com/games/9899
LOCATION:Burnsville Arena
SUMMARY:Intermediate Game at Burnsville Arena
CLASS:PUBLIC
DTSTAMP:20260421T111829Z
END:VEVENT
END:VCALENDAR