BEGIN:VCALENDAR
VERSION:2.0
PRODID:JMS Hockey
X-PUBLISHED-TTL:P1W
BEGIN:VEVENT
UID:69e776d8e1679
DTSTART:20170415T021500Z
SEQUENCE:0
TRANSP:OPAQUE
DTEND:20170415T034500Z
URL:http://jmshockey.com/games/9893
LOCATION:St Louis Park Rec Center
SUMMARY:Novice Game at St Louis Park Rec Center
CLASS:PUBLIC
DTSTAMP:20260421T080840Z
END:VEVENT
END:VCALENDAR