BEGIN:VCALENDAR
VERSION:2.0
PRODID:JMS Hockey
X-PUBLISHED-TTL:P1W
BEGIN:VEVENT
UID:69e787f4745cd
DTSTART:20170512T021500Z
SEQUENCE:0
TRANSP:OPAQUE
DTEND:20170512T034500Z
URL:http://jmshockey.com/games/9884
LOCATION:White Bear Sports Ctr
SUMMARY:Intermediate Game at White Bear Sports Ctr
CLASS:PUBLIC
DTSTAMP:20260421T092140Z
END:VEVENT
END:VCALENDAR