BEGIN:VCALENDAR
VERSION:2.0
PRODID:JMS Hockey
X-PUBLISHED-TTL:P1W
BEGIN:VEVENT
UID:69e7ad7bdc136
DTSTART:20170526T021500Z
SEQUENCE:0
TRANSP:OPAQUE
DTEND:20170526T034500Z
URL:http://jmshockey.com/games/9882
LOCATION:White Bear Sports Ctr
SUMMARY:Intermediate Game at White Bear Sports Ctr
CLASS:PUBLIC
DTSTAMP:20260421T120147Z
END:VEVENT
END:VCALENDAR