BEGIN:VCALENDAR
VERSION:2.0
PRODID:JMS Hockey
X-PUBLISHED-TTL:P1W
BEGIN:VEVENT
UID:69e787a24bb38
DTSTART:20170420T023000Z
SEQUENCE:0
TRANSP:OPAQUE
DTEND:20170420T040000Z
URL:http://jmshockey.com/games/9880
LOCATION:White Bear Sports Ctr
SUMMARY:Lower Level Game at White Bear Sports Ctr
CLASS:PUBLIC
DTSTAMP:20260421T092018Z
END:VEVENT
END:VCALENDAR