BEGIN:VCALENDAR
VERSION:2.0
PRODID:JMS Hockey
X-PUBLISHED-TTL:P1W
BEGIN:VEVENT
UID:69e77a730a922
DTSTART:20170422T003000Z
SEQUENCE:0
TRANSP:OPAQUE
DTEND:20170422T020000Z
URL:http://jmshockey.com/games/9875
LOCATION:Parade Ice Gardens
SUMMARY:Upper Level Game at Parade Ice Gardens
CLASS:PUBLIC
DTSTAMP:20260421T082403Z
END:VEVENT
END:VCALENDAR