BEGIN:VCALENDAR
VERSION:2.0
PRODID:JMS Hockey
X-PUBLISHED-TTL:P1W
BEGIN:VEVENT
UID:69e785979d202
DTSTART:20170304T012000Z
SEQUENCE:0
TRANSP:OPAQUE
DTEND:20170304T025000Z
URL:http://jmshockey.com/games/9863
LOCATION:Doug Woog Arena (Wakota)
SUMMARY:Intermediate Game at Doug Woog Arena (Wakota)
CLASS:PUBLIC
DTSTAMP:20260421T091135Z
END:VEVENT
END:VCALENDAR