BEGIN:VCALENDAR
VERSION:2.0
PRODID:JMS Hockey
X-PUBLISHED-TTL:P1W
BEGIN:VEVENT
UID:69e79f6e1317b
DTSTART:20170321T002000Z
SEQUENCE:0
TRANSP:OPAQUE
DTEND:20170321T015000Z
URL:http://jmshockey.com/games/9861
LOCATION:Doug Woog Arena (Wakota)
SUMMARY:Lower Level Game at Doug Woog Arena (Wakota)
CLASS:PUBLIC
DTSTAMP:20260421T110150Z
END:VEVENT
END:VCALENDAR