BEGIN:VCALENDAR
VERSION:2.0
PRODID:JMS Hockey
X-PUBLISHED-TTL:P1W
BEGIN:VEVENT
UID:69e774c9885d0
DTSTART:20170307T023000Z
SEQUENCE:0
TRANSP:OPAQUE
DTEND:20170307T040000Z
URL:http://jmshockey.com/games/9858
LOCATION:Doug Woog Arena (Wakota)
SUMMARY:Lower Level Game at Doug Woog Arena (Wakota)
CLASS:PUBLIC
DTSTAMP:20260421T075953Z
END:VEVENT
END:VCALENDAR