BEGIN:VCALENDAR
VERSION:2.0
PRODID:JMS Hockey
X-PUBLISHED-TTL:P1W
BEGIN:VEVENT
UID:69e7bb4657cb8
DTSTART:20170302T023000Z
SEQUENCE:0
TRANSP:OPAQUE
DTEND:20170302T040000Z
URL:http://jmshockey.com/games/9854
LOCATION:Doug Woog Arena (Wakota)
SUMMARY:Level 3 Game at Doug Woog Arena (Wakota)
CLASS:PUBLIC
DTSTAMP:20260421T130038Z
END:VEVENT
END:VCALENDAR