BEGIN:VCALENDAR
VERSION:2.0
PRODID:JMS Hockey
X-PUBLISHED-TTL:P1W
BEGIN:VEVENT
UID:69e7ce3b33330
DTSTART:20091105T041500Z
SEQUENCE:0
TRANSP:OPAQUE
DTEND:20091105T054500Z
URL:http://jmshockey.com/games/985
LOCATION:Highland Arena
SUMMARY:Level 2 Game at Highland Arena
CLASS:PUBLIC
DTSTAMP:20260421T142131Z
END:VEVENT
END:VCALENDAR