BEGIN:VCALENDAR
VERSION:2.0
PRODID:JMS Hockey
X-PUBLISHED-TTL:P1W
BEGIN:VEVENT
UID:69e781a50a113
DTSTART:20170318T004500Z
SEQUENCE:0
TRANSP:OPAQUE
DTEND:20170318T021500Z
URL:http://jmshockey.com/games/9844
LOCATION:Breck Anderson Arena
SUMMARY:Upper Level Game at Breck Anderson Arena
CLASS:PUBLIC
DTSTAMP:20260421T085445Z
END:VEVENT
END:VCALENDAR