BEGIN:VCALENDAR
VERSION:2.0
PRODID:JMS Hockey
X-PUBLISHED-TTL:P1W
BEGIN:VEVENT
UID:69e7d631da3dc
DTSTART:20170225T034500Z
SEQUENCE:0
TRANSP:OPAQUE
DTEND:20170225T051500Z
URL:http://jmshockey.com/games/9841
LOCATION:Parade Ice Gardens
SUMMARY:Upper Level Game at Parade Ice Gardens
CLASS:PUBLIC
DTSTAMP:20260421T145529Z
END:VEVENT
END:VCALENDAR