BEGIN:VCALENDAR
VERSION:2.0
PRODID:JMS Hockey
X-PUBLISHED-TTL:P1W
BEGIN:VEVENT
UID:69e7a39ae1f2a
DTSTART:20170318T013000Z
SEQUENCE:0
TRANSP:OPAQUE
DTEND:20170318T030000Z
URL:http://jmshockey.com/games/9828
LOCATION:Schwan Superrink
SUMMARY:All level Game at Schwan Superrink
CLASS:PUBLIC
DTSTAMP:20260421T111938Z
END:VEVENT
END:VCALENDAR