BEGIN:VCALENDAR
VERSION:2.0
PRODID:JMS Hockey
X-PUBLISHED-TTL:P1W
BEGIN:VEVENT
UID:69e7adbc3c66e
DTSTART:20170319T024000Z
SEQUENCE:0
TRANSP:OPAQUE
DTEND:20170319T041000Z
URL:http://jmshockey.com/games/9820
LOCATION:St Thomas Ice Arena
SUMMARY:All level Game at St Thomas Ice Arena
CLASS:PUBLIC
DTSTAMP:20260421T120252Z
END:VEVENT
END:VCALENDAR