BEGIN:VCALENDAR
VERSION:2.0
PRODID:JMS Hockey
X-PUBLISHED-TTL:P1W
BEGIN:VEVENT
UID:69e78e06a5ea1
DTSTART:20170428T024000Z
SEQUENCE:0
TRANSP:OPAQUE
DTEND:20170428T041000Z
URL:http://jmshockey.com/games/9818
LOCATION:St Thomas Ice Arena
SUMMARY:All level Game at St Thomas Ice Arena
CLASS:PUBLIC
DTSTAMP:20260421T094734Z
END:VEVENT
END:VCALENDAR