BEGIN:VCALENDAR
VERSION:2.0
PRODID:JMS Hockey
X-PUBLISHED-TTL:P1W
BEGIN:VEVENT
UID:69e7a3b380943
DTSTART:20170421T024000Z
SEQUENCE:0
TRANSP:OPAQUE
DTEND:20170421T041000Z
URL:http://jmshockey.com/games/9817
LOCATION:St Thomas Ice Arena
SUMMARY:All level Game at St Thomas Ice Arena
CLASS:PUBLIC
DTSTAMP:20260421T112003Z
END:VEVENT
END:VCALENDAR