BEGIN:VCALENDAR
VERSION:2.0
PRODID:JMS Hockey
X-PUBLISHED-TTL:P1W
BEGIN:VEVENT
UID:69e7cd1114484
DTSTART:20170314T024000Z
SEQUENCE:0
TRANSP:OPAQUE
DTEND:20170314T041000Z
URL:http://jmshockey.com/games/9803
LOCATION:St Thomas Ice Arena
SUMMARY:Elite Game at St Thomas Ice Arena
CLASS:PUBLIC
DTSTAMP:20260421T141633Z
END:VEVENT
END:VCALENDAR