BEGIN:VCALENDAR
VERSION:2.0
PRODID:JMS Hockey
X-PUBLISHED-TTL:P1W
BEGIN:VEVENT
UID:69e7ca81e91a7
DTSTART:20091103T030000Z
SEQUENCE:0
TRANSP:OPAQUE
DTEND:20091103T043000Z
URL:http://jmshockey.com/games/980
LOCATION:Northeast Arena
SUMMARY:Level 1 Game at Northeast Arena
CLASS:PUBLIC
DTSTAMP:20260421T140537Z
END:VEVENT
END:VCALENDAR