BEGIN:VCALENDAR
VERSION:2.0
PRODID:JMS Hockey
X-PUBLISHED-TTL:P1W
BEGIN:VEVENT
UID:69e7ea59f34f6
DTSTART:20170421T011000Z
SEQUENCE:0
TRANSP:OPAQUE
DTEND:20170421T024000Z
URL:http://jmshockey.com/games/9798
LOCATION:Burnsville Arena
SUMMARY:Intermediate Game at Burnsville Arena
CLASS:PUBLIC
DTSTAMP:20260421T162130Z
END:VEVENT
END:VCALENDAR